BEGIN:VCALENDAR
VERSION:2.0
PRODID:-//Events//NONSGML v1.0//EN
METHOD:PUBLISH
BEGIN:VEVENT
DTSTART;TZID="Pacific Time (US & Canada)":20240405T120000
DTEND;TZID="Pacific Time (US & Canada)":20240405T170000
SUMMARY:Spring Break Sneak Peek Open House
LOCATION:Brelsford WSU Visitor Center, 150 E Spring St, Pullman, WA 99163
DESCRIPTION:Welcome future Cougs! Learn more about your soon-to-be community during an open house featuring a variety of local resources and amenities, one-on-one conversations with current Cougs and a complimentary keepsake photo capturing you becoming a future WSU Pullman Coug while enjoying a selection of our famous Cougar Cheese flavors. Stop by and say hello - we&#039;re always here to help!
BEGIN:VALARM
ACTION:DISPLAY
DESCRIPTION:REMINDER
TRIGGER;RELATED=START:-PT00H15M00S
END:VALARM
END:VEVENT
END:VCALENDAR
