BEGIN:VCALENDAR
VERSION:2.0
PRODID:-//Events//NONSGML v1.0//EN
METHOD:PUBLISH
BEGIN:VEVENT
DTSTART;TZID="Pacific Time (US & Canada)":20200220T120000
DTEND;TZID="Pacific Time (US & Canada)":20200220T133000
SUMMARY:Starting from the Bottom:  Building First-Gen Support Offerings with Little to No Resources
LOCATION:Compton Union Building
DESCRIPTION:Review concrete ways to establish buy-in from administrators, faculty, and staff when pioneering initiatives from the ground up. Topics will include the importance of institutional context, establishing (unlikely) allies, and garnering faculty partnerships.\n\nPre-recorded Webinar presented by UCLA staff La’Tonya Rease Miles, Ph.D. and Symone Morales M.Ed..\n\nPresentation will be followed by a facilitation discussion relating this to our WSU experience.\n\n&nbsp;
BEGIN:VALARM
ACTION:DISPLAY
DESCRIPTION:REMINDER
TRIGGER;RELATED=START:-PT00H15M00S
END:VALARM
END:VEVENT
END:VCALENDAR
