BEGIN:VCALENDAR
VERSION:2.0
PRODID:-//Events//NONSGML v1.0//EN
METHOD:PUBLISH
BEGIN:VEVENT
DTSTART;TZID="Pacific Time (US & Canada)":20230419T120000
DTEND;TZID="Pacific Time (US & Canada)":20230419T130000
SUMMARY:Startup Advisor Lunch &amp; Learn: Business Formation
LOCATION:WSU Spokane, 412 E. Spokane Falls Blvd., Spokane, WA 99202
DESCRIPTION:\n\n\n\n\n\n\n\nFounding a scalable startup company can be more complicated than starting a traditional business. Learn key elements for startup formation including:\n\n\n\n\n\n 	Selecting and filing your business entity (LLC, C Corp, SPC)\n\n 	Corporate structuring (founder stock, stock options for employees, etc.)\n\n 	Startup funding basics\n\n\n\nSpeaker Bio:\n\nDan Wadkins (Foster Garvey) has a passion for helping startups and emerging companies navigate the complex business and legal landscape, assisting his clients in every stage of the business lifecycle, from formation and financing to a successful exit.\n\nPlease note:\n\nParking is complimentary. Standard and plant-based options for lunch are included with in-person registration, which ends at 11:59 p.m. on April 6th. This is so we have an accurate headcount for our food order. We are happy to accommodate any dietary restrictions. Please reach out right away so we can be successful in accommodating your request.\n\nHelp us eliminate food waste! If you register to attend in-person and find you won&#039;t be able to be there, please notify us right away.\n\n\n\n&nbsp;\n\n\n\nAgenda:\n\n\n\n\n\n\n\n\n\n\n\n\n\n\n\n\n\n11:30 AM - 12:00 PM\n\nIn-Person Networking\n\n\n\n\n\nMichaele Armstrong\n\n\n\n\n\n Dan Wadkins\n\n\n\n\n\n\n\n\n\n\n\n\n\n12:00 PM - 1:00 PM\n\nPresentation begins\n\n\n\n\n\n Dan Wadkins\n\n\n\n\n\n\n\n\n\n\n\n\n\n
BEGIN:VALARM
ACTION:DISPLAY
DESCRIPTION:REMINDER
TRIGGER;RELATED=START:-PT00H15M00S
END:VALARM
END:VEVENT
END:VCALENDAR
