BEGIN:VCALENDAR
VERSION:2.0
PRODID:-//Events//NONSGML v1.0//EN
METHOD:PUBLISH
BEGIN:VEVENT
DTSTART;TZID="Pacific Time (US & Canada)":20171013T161000
DTEND;TZID="Pacific Time (US & Canada)":20171013T170000
SUMMARY:Student Recital: Celena Hansen, voice
LOCATION:
DESCRIPTION:Vocal Performance senior Celena Hansen will be performing her Senior Recital on October 13th, 2017. The recital will take place at 4:10pm in Bryan Hall Theater. Included in this program are pieces by Henri Duparc, Hugo Wolf and Joaquin Rodrigo. There will be a reception to follow.\n\nThis concert is open to the public and without charge.\n\n&nbsp;
BEGIN:VALARM
ACTION:DISPLAY
DESCRIPTION:REMINDER
TRIGGER;RELATED=START:-PT00H15M00S
END:VALARM
END:VEVENT
END:VCALENDAR
