BEGIN:VCALENDAR
VERSION:2.0
PRODID:-//Events//NONSGML v1.0//EN
METHOD:PUBLISH
BEGIN:VEVENT
DTSTART;TZID="Pacific Time (US & Canada)":20240419T151000
DTEND;TZID="Pacific Time (US & Canada)":20240419T160000
SUMMARY:Student Recital: Logan Terry, trombone
LOCATION:Bryan Hall
DESCRIPTION:PROGRAM\n\nLogan Terry presents &quot;A Trip Down Memory Lane&quot;, reminiscing on the good ol&#039; days of college before heading out to the real world. In collaboration with Elena Panchenko on piano, this recital will showcase works by Eugene Bozza, Franz Strauss, and Michael Davis to remember the fun times of college and my favorite solo works previously performed throughout my undergraduate career.
BEGIN:VALARM
ACTION:DISPLAY
DESCRIPTION:REMINDER
TRIGGER;RELATED=START:-PT00H15M00S
END:VALARM
END:VEVENT
END:VCALENDAR
