BEGIN:VCALENDAR
VERSION:2.0
PRODID:-//Events//NONSGML v1.0//EN
METHOD:PUBLISH
BEGIN:VEVENT
DTSTART;TZID="Pacific Time (US & Canada)":20171026T200000
DTEND;TZID="Pacific Time (US & Canada)":20171026T200000
SUMMARY:Student Recital: Mali McEnderfer, voice and Lauren Kaleikini-Torrez, voice
LOCATION:
DESCRIPTION:&nbsp;\n\n\n\n&nbsp;\n\n&nbsp;\n\nCome join Lauren Kaleikini-Torrez and Mali McEnderfer as they perform their senior music education recital. Accompanied by Sophia Turnbull and Laura Hendrickson, the recital will take place at 8:00pm on October 26th, 2017 in Bryan Hall Theatre. There will be music by well known composers such as George Frideric Handel, Reynaldo Hahn, Gabriel Faure and more!\n\n&nbsp;\n\nThis recital is free to the public and there will be a reception afterwards in the lobby consisting of light snacks and refreshments.
BEGIN:VALARM
ACTION:DISPLAY
DESCRIPTION:REMINDER
TRIGGER;RELATED=START:-PT00H15M00S
END:VALARM
END:VEVENT
END:VCALENDAR
