BEGIN:VCALENDAR
VERSION:2.0
PRODID:-//Events//NONSGML v1.0//EN
METHOD:PUBLISH
BEGIN:VEVENT
DTSTART;TZID="Pacific Time (US & Canada)":20191002T193000
DTEND;TZID="Pacific Time (US & Canada)":20191002T213000
SUMMARY:Symphonic Wind Ensemble/Symphonic Band + LIVESTREAM
LOCATION:Bryan Hall
DESCRIPTION:CONCERT PROGRAM\n\nThe WSU Symphonic Band and Symphonic Wind Ensemble present their opening concert of the 2019-2020 school year on Wednesday, October 2.\n\nThe evening will feature classics of the concert band repertoire, including works by Holst and Persichetti. We will welcome special guest conductor and graduate student Angelina Gomez to the podium.\n\n&nbsp;
BEGIN:VALARM
ACTION:DISPLAY
DESCRIPTION:REMINDER
TRIGGER;RELATED=START:-PT00H15M00S
END:VALARM
END:VEVENT
END:VCALENDAR
