BEGIN:VCALENDAR
VERSION:2.0
PRODID:-//Events//NONSGML v1.0//EN
METHOD:PUBLISH
BEGIN:VEVENT
DTSTART;TZID="Pacific Time (US & Canada)":20190926T193000
DTEND;TZID="Pacific Time (US & Canada)":20190926T213000
SUMMARY:Symphony Orchestra + LIVESTREAM
LOCATION:Bryan Hall
DESCRIPTION:CONCERT PROGRAM\n\nJoin the WSU Symphony Orchestra as they present their first concert of the 2019-2020 academic year. They will be performing a concert featuring orchestral favorites, as well as a tuba concerto by Barbara York. Duncan Titus, Co-Winner of last year&#039;s WSU Concerto/Aria Competition, will be the evening&#039;s featured soloist. Repertoire also include Jean Sibelius&#039;s &quot;Finlandia&quot; conducted by graduate student Angelina Gomez, and Arturo Marquez&#039;s &quot;Danzon No. 2&quot;. The orchestra&#039;s conductor is Dr. Danh Pham.\n\n&nbsp;
BEGIN:VALARM
ACTION:DISPLAY
DESCRIPTION:REMINDER
TRIGGER;RELATED=START:-PT00H15M00S
END:VALARM
END:VEVENT
END:VCALENDAR
