BEGIN:VCALENDAR
VERSION:2.0
PRODID:-//Events//NONSGML v1.0//EN
METHOD:PUBLISH
BEGIN:VEVENT
DTSTART;TZID="Pacific Time (US & Canada)":20230506T150000
DTEND;TZID="Pacific Time (US & Canada)":20230506T170000
SUMMARY:Taste of Home with Washington Wine &#8212; Peoria, AZ
LOCATION:Off Campus
DESCRIPTION:Join fellow Arizona Cougs on Saturday, May 6, for a wine tasting created just for you! Cactus Taproom Craft Beer &amp; Wine Bar owner and fellow Coug Carrie Parker ’01 will pour three tastings and one full glass of delicious wine from Washington, which includes red and white blends. A sampling of Cougar Gold cheese will also be provided, and you are welcome to bring your own snacks or appetizers.\n\nAll WSU alums, friends, and fans ages 21+ are welcome to attend this exclusive event. The registration deadline is Friday, April 28 at 12:00 p.m. (noon) Mountain or when it fills up as space is limited. Register on the WSU Alumni Association website and secure your spot today!\n\nCost\n\n$25 per person\n\nIncludes three (3) wine tastings, one (1) glass of wine, a commemorative WSUAA wine tumbler, and a sampling of Cougar Gold cheese.\n\nThe wine sampled will be available for individual purchase from the establishment at a discounted rate. Bring any additional food you’d like to pair with your tasting!
BEGIN:VALARM
ACTION:DISPLAY
DESCRIPTION:REMINDER
TRIGGER;RELATED=START:-PT00H15M00S
END:VALARM
END:VEVENT
END:VCALENDAR
