BEGIN:VCALENDAR
VERSION:2.0
PRODID:-//Events//NONSGML v1.0//EN
METHOD:PUBLISH
BEGIN:VEVENT
DTSTART;TZID="Pacific Time (US & Canada)":20190220T110000
DTEND;TZID="Pacific Time (US & Canada)":20190220T133000
SUMMARY:Taste of Korea
LOCATION:
DESCRIPTION:\n\nDining Services and the Korean Student Association invite you to Taste of Korea, a special lunchtime event, at Hillside Café. Please join us between 11 a.m. – 1:30 p.m. for this celebration of Korean food and culture.\n\nMenu items include Galbi-jjim (Korean-style braised short ribs), Jeyuk Bokkeum (spicy stir-fried pork), and much more! Click here to see the full menu.\n\nNo registration is necessary. We look forward to seeing you there!
BEGIN:VALARM
ACTION:DISPLAY
DESCRIPTION:REMINDER
TRIGGER;RELATED=START:-PT00H15M00S
END:VALARM
END:VEVENT
END:VCALENDAR
