BEGIN:VCALENDAR
VERSION:2.0
PRODID:-//Events//NONSGML v1.0//EN
METHOD:PUBLISH
BEGIN:VEVENT
DTSTART;TZID="Pacific Time (US & Canada)":20210825T141000
DTEND;TZID="Pacific Time (US & Canada)":20210825T150000
SUMMARY:Teaching from a Distance: Authentic Assessment
LOCATION:
DESCRIPTION:The Learning Innovations team invites you to join them for a training. In this training, we will cover effective ways to assess student learning in your online course space.\n\nLearning Outcomes\n\n\n\n 	Identify effective approaches for assessment in an online environment.\n\n 	Discuss the importance of using measurable learning outcomes as the foundation of assessment.\n\n 	Identify ways to organize students for self and peer assessment.\n\n 	Locate, adapt and use rubrics for outcomes-based assessment.\n\n 	Discuss the use of formative assessment to support student’s learning.\n\n\n\nSession Length\n\n50 Minutes: Training/Presentation\n\nNeed to cancel?\n\nReturn to the registration portal to cancel.\n\nWe look forward to seeing you!
BEGIN:VALARM
ACTION:DISPLAY
DESCRIPTION:REMINDER
TRIGGER;RELATED=START:-PT00H15M00S
END:VALARM
END:VEVENT
END:VCALENDAR
