BEGIN:VCALENDAR
VERSION:2.0
PRODID:-//Events//NONSGML v1.0//EN
METHOD:PUBLISH
BEGIN:VEVENT
DTSTART;TZID="Pacific Time (US & Canada)":20200402T161000
DTEND;TZID="Pacific Time (US & Canada)":20200402T170000
SUMMARY:Teaching from a distance: Strategies and best practices
LOCATION:
DESCRIPTION:In this training, we will cover simple ways to engage with students and optimize your course space.\n\nWe look forward to seeing you there!\n\nThe Learning Innovations Team\n\nFor a full list of training and other Learning Innovation events, please visit the faculty workshop training schedule on the LI website.
BEGIN:VALARM
ACTION:DISPLAY
DESCRIPTION:REMINDER
TRIGGER;RELATED=START:-PT00H15M00S
END:VALARM
END:VEVENT
END:VCALENDAR
