BEGIN:VCALENDAR
VERSION:2.0
PRODID:-//Events//NONSGML v1.0//EN
METHOD:PUBLISH
BEGIN:VEVENT
DTSTART;TZID="Pacific Time (US & Canada)":20210324T121000
DTEND;TZID="Pacific Time (US & Canada)":20210324T130000
SUMMARY:The Power of Connection: Your WSU Alumni Community
LOCATION:Online
DESCRIPTION:\n\nThe Cougar Career Community will be bringing together alumni employers to share their experiences with the next round of business-ready Cougs. Join our panelists:\n\n\n\n 	Ellen Price - WSU Alumni Assoc King Country President, https://www.linkedin.com/in/lnpriceisright/\n\n 	Kyra Smith - Fisher Investermens, https://www.linkedin.com/in/kyra-smith-45804010a/\n\n 	Tony Poston - Custom Hill Threads,  https://www.linkedin.com/in/tony-poston-6877861/\n\n\n\nas they discuss effective ways to network, how being a WSU Alum has impacted their professional growth, and how you can start making effective connections now.
BEGIN:VALARM
ACTION:DISPLAY
DESCRIPTION:REMINDER
TRIGGER;RELATED=START:-PT00H15M00S
END:VALARM
END:VEVENT
END:VCALENDAR
