BEGIN:VCALENDAR
VERSION:2.0
PRODID:-//Events//NONSGML v1.0//EN
METHOD:PUBLISH
BEGIN:VEVENT
DTSTART;TZID="Pacific Time (US & Canada)":20211006T123000
DTEND;TZID="Pacific Time (US & Canada)":20211006T140000
SUMMARY:The privilege of passing: Always proud but tired of being loud with Sophie Poost
LOCATION:Online
DESCRIPTION:\n\nPresentation Description\n\nThrough the use of storytelling, this presentation will address common myths about bisexuality and disability while addressing passing privilege from a disabled and queer perspective. Sophie will take the audience through her journey of self-identifying, coming out (and coming out, and coming out) and ongoing acceptance, as she elaborates on the battle against systemic and internalized ableism and biphobia. Sophie invites audience members to join her in questioning their preconceived notions of identity expression and community acceptance.\n\n&nbsp;\n\n&nbsp;
BEGIN:VALARM
ACTION:DISPLAY
DESCRIPTION:REMINDER
TRIGGER;RELATED=START:-PT00H15M00S
END:VALARM
END:VEVENT
END:VCALENDAR
