BEGIN:VCALENDAR
VERSION:2.0
PRODID:-//Events//NONSGML v1.0//EN
METHOD:PUBLISH
BEGIN:VEVENT
DTSTART;TZID="Pacific Time (US & Canada)":20241113T173000
DTEND;TZID="Pacific Time (US & Canada)":20241113T180000
SUMMARY:The Ruth and Loran Olsen Festival of Native American Music &#8211; Music by Native American Composers
LOCATION:Elson S. Floyd Cultural Center, 405 SE Spokane Street, Pullman, WA
DESCRIPTION:Program:\n\nThe Ruth and Loran Olsen Festival of Native American Music – Music by Native American Composers\n\nThis event will feature WSU School of Music Faculty and Students.\n\nDinner provided.\n\nDoors open for the event at 5:00pm\n\n&nbsp;
BEGIN:VALARM
ACTION:DISPLAY
DESCRIPTION:REMINDER
TRIGGER;RELATED=START:-PT00H15M00S
END:VALARM
END:VEVENT
END:VCALENDAR
