BEGIN:VCALENDAR
VERSION:2.0
PRODID:-//Events//NONSGML v1.0//EN
METHOD:PUBLISH
BEGIN:VEVENT
DTSTART;TZID="Pacific Time (US & Canada)":20190923T080000
DTEND;TZID="Pacific Time (US & Canada)":20190927T170000
SUMMARY:TRIBUTTE :  A pop-up group exhibition
LOCATION:Fine Arts Building, Pullman, WA 99164
DESCRIPTION:MFA graduate students were asked to respond to the environment in an intuitive manner for approximately three hours at Kamiak Butte, working mostly in groups.\n\nIn the following days, artists edited and organized their ideas for installation. The result is a quirky and quick tribute to the Butte and surrounding landscape. Additionally, for this show artists will be presenting a collaborative zine: Hidden Gems of the Palouse for Contemporary Artists, Volume 1.
BEGIN:VALARM
ACTION:DISPLAY
DESCRIPTION:REMINDER
TRIGGER;RELATED=START:-PT00H15M00S
END:VALARM
END:VEVENT
END:VCALENDAR
