BEGIN:VCALENDAR
VERSION:2.0
PRODID:-//Events//NONSGML v1.0//EN
METHOD:PUBLISH
BEGIN:VEVENT
DTSTART;TZID="Pacific Time (US & Canada)":20191120T121000
DTEND;TZID="Pacific Time (US & Canada)":20191120T130000
SUMMARY:Using Group Work Effectively: Create and Apply
LOCATION:Center for Undergraduate Education (CUE), NE Troy Lane, Pullman, WA 99164
DESCRIPTION:Explore a variety of methods to engage, interact with, and assess a divers set of learners. Work with LI team members to continue implementing these strategies in your own course.\n\nWe look forward to seeing you there!\n\nThe Learning Innovations Team\n\nFor more Learning Innovation events, please visit the faculty workshop training schedule on the LI website.
BEGIN:VALARM
ACTION:DISPLAY
DESCRIPTION:REMINDER
TRIGGER;RELATED=START:-PT00H15M00S
END:VALARM
END:VEVENT
END:VCALENDAR
