BEGIN:VCALENDAR
VERSION:2.0
PRODID:-//Events//NONSGML v1.0//EN
METHOD:PUBLISH
BEGIN:VEVENT
DTSTART;TZID="Pacific Time (US & Canada)":20181126T084000
DTEND;TZID="Pacific Time (US & Canada)":20181126T092000
SUMMARY:VCEA Donuts with the Dean
LOCATION:Wegner Hall
DESCRIPTION:Join your Voiland College of Engineering and Architecture Dean, Mary Rezac, for donuts and conversation.
BEGIN:VALARM
ACTION:DISPLAY
DESCRIPTION:REMINDER
TRIGGER;RELATED=START:-PT00H15M00S
END:VALARM
END:VEVENT
END:VCALENDAR
