BEGIN:VCALENDAR
VERSION:2.0
PRODID:-//Events//NONSGML v1.0//EN
METHOD:PUBLISH
BEGIN:VEVENT
DTSTART;TZID="Pacific Time (US & Canada)":20190213T100000
DTEND;TZID="Pacific Time (US & Canada)":20190213T110000
SUMMARY:Video Conference (VC) Classroom Technology
LOCATION:Spark
DESCRIPTION:The synchronous distance learning technology allows students throughout the state – and beyond – to take part in WSU’s educational experience. Learn the basics of videoconferencing and how to use it in your classroom.\n\nRegister for Videoconference
BEGIN:VALARM
ACTION:DISPLAY
DESCRIPTION:REMINDER
TRIGGER;RELATED=START:-PT00H15M00S
END:VALARM
END:VEVENT
END:VCALENDAR
