BEGIN:VCALENDAR
VERSION:2.0
PRODID:-//Events//NONSGML v1.0//EN
METHOD:PUBLISH
BEGIN:VEVENT
DTSTART;TZID="Pacific Time (US & Canada)":20200909T180000
DTEND;TZID="Pacific Time (US & Canada)":20200909T203000
SUMMARY:Visiting Writers Series 1-Credit Workshop: How to be an agent/How to get an agent
LOCATION:Online
DESCRIPTION:In this hands-on class, veteran literary agent Taryn Fagerness (a WSU alumna!) will teach students how to attract a literary agent to their work and the pitfalls to avoid on their journey to publication.\n\nTopic covered include:\n\n\n\n 	The art of writing a proposal,\n\n 	How to put together a list of agents to approach, current trends, and\n\n 	How to write the all-important query letter.\n\n\n\nMs. Fagerness will also discuss how to get started in the publishing business as a career, sharing insider tips and offering insights from her 22 years in the industry. Students must also attend the Literary Agent Panel on September 7 at noon. To register, contact Leisa McCormick at: lmccormick@wsu.edu or 509-335-0496.
BEGIN:VALARM
ACTION:DISPLAY
DESCRIPTION:REMINDER
TRIGGER;RELATED=START:-PT00H15M00S
END:VALARM
END:VEVENT
END:VCALENDAR
