BEGIN:VCALENDAR
VERSION:2.0
PRODID:-//Events//NONSGML v1.0//EN
METHOD:PUBLISH
BEGIN:VEVENT
DTSTART;TZID="Pacific Time (US & Canada)":20200430T091000
DTEND;TZID="Pacific Time (US & Canada)":20200430T100000
SUMMARY:VoiceThread
LOCATION:Online
DESCRIPTION:Learn how to engage students in meaningful conversation by interacting with their peers and media. Create, comment, collaborate, and share information with this tool that centers conversations around media (instructor created, student created, or already existing).\n\nWe look forward to seeing you there!\n\nThe Learning Innovations Team\n\nFor a full list of training and other Learning Innovation events, please visit the faculty workshop training schedule on the LI website.
BEGIN:VALARM
ACTION:DISPLAY
DESCRIPTION:REMINDER
TRIGGER;RELATED=START:-PT00H15M00S
END:VALARM
END:VEVENT
END:VCALENDAR
