BEGIN:VCALENDAR
VERSION:2.0
PRODID:-//Events//NONSGML v1.0//EN
METHOD:PUBLISH
BEGIN:VEVENT
DTSTART;TZID="Pacific Time (US & Canada)":20260423T120000
DTEND;TZID="Pacific Time (US & Canada)":20260423T130000
SUMMARY:War in Iran: What next for the Middle East?
LOCATION:Foley Institute, 316 Bryan Hall, Pullman, WA 99164
DESCRIPTION:Join the Foley Institute as we welcome Lawrence Pintak, award-winning journalist who has reported from the Middle East and around the world. Pintak will discuss the implications of the continued conflict in Iran and what that tells us about what the future holds for the region.\n\nPizza and soft drinks will be provided!\n\nWar in Iran
BEGIN:VALARM
ACTION:DISPLAY
DESCRIPTION:REMINDER
TRIGGER;RELATED=START:-PT00H15M00S
END:VALARM
END:VEVENT
END:VCALENDAR
