BEGIN:VCALENDAR
VERSION:2.0
PRODID:-//Events//NONSGML v1.0//EN
METHOD:PUBLISH
BEGIN:VEVENT
DTSTART;TZID="Pacific Time (US & Canada)":20190814T120000
DTEND;TZID="Pacific Time (US & Canada)":20190814T160000
SUMMARY:Week of Welcome Industry Tour: Lower Granite Dam Hard Hat Tour
LOCATION:Off Campus
DESCRIPTION:Join us during Week of Welcome for an Industry Tour of the Lower Granite Dam. Transportation will be provided from WSU Pullman campus.\n\n-The Lower Granite Dam is maintained by the U.S. Army Corps of Engineers\n\n-$624 million dollar project\n\n-Installed production capacity of 810MW of power\n\n-Employs all engineering disciplines, intern starting sophomore year\n\nThis tour is limited to 20 students. Please register to reserve your spot, registration closes July 24.
BEGIN:VALARM
ACTION:DISPLAY
DESCRIPTION:REMINDER
TRIGGER;RELATED=START:-PT00H15M00S
END:VALARM
END:VEVENT
END:VCALENDAR
