BEGIN:VCALENDAR
VERSION:2.0
PRODID:-//Events//NONSGML v1.0//EN
METHOD:PUBLISH
BEGIN:VEVENT
DTSTART;TZID="Pacific Time (US & Canada)":20240108T170000
DTEND;TZID="Pacific Time (US & Canada)":20240108T180000
SUMMARY:Week of Welcome &#8211; WSU Global Campus New Student Welcome Session
LOCATION:Online
DESCRIPTION:Join us for this engaging informational session geared towards first year Global Campus students. Learn about successfully making the transition to university, navigating your new community, and utilizing support when needed.\n\nAttend every day of Week of Welcome to learn about WSU Global Campus, connect with fellow Cougs, and win WSU merchandise. Go Cougs!
BEGIN:VALARM
ACTION:DISPLAY
DESCRIPTION:REMINDER
TRIGGER;RELATED=START:-PT00H15M00S
END:VALARM
END:VEVENT
END:VCALENDAR
