BEGIN:VCALENDAR
VERSION:2.0
PRODID:-//Events//NONSGML v1.0//EN
METHOD:PUBLISH
BEGIN:VEVENT
DTSTART;TZID="Pacific Time (US & Canada)":20231011T160000
DTEND;TZID="Pacific Time (US & Canada)":20231011T190000
SUMMARY:WGSS 2023 InQueery Symposium&#8211;After the Tipping Point: Trans Histories &amp; Archives
LOCATION:Online
DESCRIPTION:Student Presentations: 4:00-5:45 pm\n\nBreak: 5:45-6 pm\n\nKeynote Speaker: 6-7 pm\n\nKeynote Speaker: Associate Professor Dr. Hil Malatino, Pennsylvania State University\n\nTitle: “Pure Potential: Reed Erickson and The Trans Twentieth Century”\n\nFor more information and to join the symposium via Zoom go to this WGSS webpage
BEGIN:VALARM
ACTION:DISPLAY
DESCRIPTION:REMINDER
TRIGGER;RELATED=START:-PT00H15M00S
END:VALARM
END:VEVENT
END:VCALENDAR
