BEGIN:VCALENDAR
VERSION:2.0
PRODID:-//Events//NONSGML v1.0//EN
METHOD:PUBLISH
BEGIN:VEVENT
DTSTART;TZID="Pacific Time (US & Canada)":20191017T161000
DTEND;TZID="Pacific Time (US & Canada)":20191017T171000
SUMMARY:Where “Subsistence” means giving 87% of it away:  Tlingit distribution of herring eggs from Sitka Sound, Alaska
LOCATION:College Hall
DESCRIPTION:Department of Anthropology Colloquium\n\n  Where “Subsistence” Means Giving 87% of it Away: \n\nTlingit Distribution of Herring Eggs from Sitka Sound, Alaska\n\nDr. Tom Thornton \n\nDean of Arts &amp; Sciences, Vice Provost for research &amp; Sponsored Programs\n\nUniversity of Alaska Southeast\n\nTlingit and other NW Pacific Coast Indigenous Peoples are “Salmon Cultures” that also recognize herring as a foundation and cultural keystone species. Herring are best appreciated and maintained in superabundance, and nothing signifies this more than giving herring eggs away through sharing, gifting, and exchange. Herring egg circulation emanates most richly from Sitka Sound, from whence Tlingit “Herring Culture” came of age and distribution thrives, touching nearly every part of Alaska and even Washington, when the commercial herring fishing sector does not take too much. This presentation examines the many values and benefit flows that come with giving herring eggs-- “first fish” of the season--away, and how they are misrecognized and under-supported in state fisheries management.\n\nBio: Tom is currently Dean of Arts &amp; Sciences and Vice-Provost for Research &amp; Sponsored Programs at the University of Alaska Southeast (UAS).  He came to Alaska in 1989 to work for the Alaska Department of Fish and Game, Division of Subsistence, while completing his PhD in anthropology at UW. He joined the Faculty of Social Sciences at UAS in 1994. From 2008-18, he was Senior Research Fellow and Associate Professor of environmental social science at Oxford University’s Environmental Change Institute, where he directed the Environmental Change and Management MSc/MPhil program and still serves as an affiliate professor in the School Geography and Environment and School of Anthropology and Museum Ethnography. His research and publications focus especially on the peoples, lands, and waters of Southeast Alaska and the North Pacific. His forthcoming book (with Madonna Moss) is titled: Herring &amp; People in the North Pacific (University of Washington Press).\n\n \n\nAll are welcome!
BEGIN:VALARM
ACTION:DISPLAY
DESCRIPTION:REMINDER
TRIGGER;RELATED=START:-PT00H15M00S
END:VALARM
END:VEVENT
END:VCALENDAR
