BEGIN:VCALENDAR
VERSION:2.0
PRODID:-//Events//NONSGML v1.0//EN
METHOD:PUBLISH
BEGIN:VEVENT
DTSTART;TZID="Pacific Time (US & Canada)":20211008T000000
DTEND;TZID="Pacific Time (US & Canada)":20211008T003000
SUMMARY:WSLA conference and meet &amp; greet
LOCATION:
DESCRIPTION:Come meet and greet those working for the Wynn-Smith Landscape Architecture. Learn about the organization by attending a conference and networking with others.\n\nRegister via Handshake today.  Time and Location: TBA
BEGIN:VALARM
ACTION:DISPLAY
DESCRIPTION:REMINDER
TRIGGER;RELATED=START:-PT00H15M00S
END:VALARM
END:VEVENT
END:VCALENDAR
