BEGIN:VCALENDAR
VERSION:2.0
PRODID:-//Events//NONSGML v1.0//EN
METHOD:PUBLISH
BEGIN:VEVENT
DTSTART;TZID="Pacific Time (US & Canada)":20211209T170000
DTEND;TZID="Pacific Time (US & Canada)":20211209T183000
SUMMARY:WSU celebrates outcomes of the Gateway project!
LOCATION:Elson S. Floyd Cultural Center, 405 SE Spokane Street, Pullman, WA
DESCRIPTION:Come enjoy refreshments and mingle with School of Design and Construction students from an interdisciplinary design studio exploring the connections between WSU and downtown Pullman. Learn about the project, speak with students about their master plan concepts, and individual projects that support the overarching goals of connecting downtown Pullman and the WSU flagship campus!\n\nYour attendance will contribute to our efforts to advance the partnership between WSU and the Pullman community.\n\nWe hope to see you there!
BEGIN:VALARM
ACTION:DISPLAY
DESCRIPTION:REMINDER
TRIGGER;RELATED=START:-PT00H15M00S
END:VALARM
END:VEVENT
END:VCALENDAR
