BEGIN:VCALENDAR
VERSION:2.0
PRODID:-//Events//NONSGML v1.0//EN
METHOD:PUBLISH
BEGIN:VEVENT
DTSTART;TZID="Pacific Time (US & Canada)":20231021T090000
DTEND;TZID="Pacific Time (US & Canada)":20231021T183000
SUMMARY:WSU Choral Festival
LOCATION:Kimbrough Music Building
DESCRIPTION:Registration now open! (Link to Choral Festival page: https://music.wsu.edu/area-information/vocal-choral/choral-festival/)\n\nEach fall, the WSU School of Music welcomes high school choirs throughout the region for an educational choral festival. The goal of this event is to excite, encourage, and educate students while developing a spirit of camaraderie and commitment to choral arts. We offer the opportunity to receive feedback from respected clinicians who will help your choir to improve technique, maximize artistic expression, and set goals for the year. \n\n&nbsp;\n\nEach participating choir will have 35 minutes on stage to perform and receive feedback from our choral faculty, Dr. Dean Luethi and Dr. Matthew Myers. Our voice professors, Dr. Julie Wieck and Alisa Toy, are offering private lessons to interested students. Performances/clinics will begin at 9 AM and continue throughout the day. Before lunch break, WSU’s opera workshop and Chamber Singers will perform. The final concert featuring WSU’s choirs as well as selected high school ensembles will be held in Bryan Hall Theatre at 5 PM. The concert will conclude by 6:30 PM.
BEGIN:VALARM
ACTION:DISPLAY
DESCRIPTION:REMINDER
TRIGGER;RELATED=START:-PT00H15M00S
END:VALARM
END:VEVENT
END:VCALENDAR
