BEGIN:VCALENDAR
VERSION:2.0
PRODID:-//Events//NONSGML v1.0//EN
METHOD:PUBLISH
BEGIN:VEVENT
DTSTART;TZID="Pacific Time (US & Canada)":20230323T110000
DTEND;TZID="Pacific Time (US & Canada)":20230323T130000
SUMMARY:WSU College of Nursing Career Fair
LOCATION:Nursing Building - WSU Spokane, 103 E. Spokane Falls Blvd., Spokane, WA 99202
DESCRIPTION:Join us for our spring career fair \n\nThis is a recruitment event that connects local and regional agencies with students who are seeking career opportunities.\n\n\n\n 	CHAS Health\n\n 	Eastern State Hospital\n\n 	Frontier Behavioral Health\n\n 	Hospice of Spokane\n\n 	Klickitat Valley Health\n\n 	Kootenai Health\n\n 	Maxim Healthcare Services\n\n 	Newport Hospital &amp; Health Services\n\n 	Northwest Specialty Hospital\n\n 	Omni Staffing Services\n\n 	Providence\n\n 	Samaritan Healthcare\n\n 	St. Luke’s Health System\n\n 	VMFH ~ Virginia Mason Franciscan Health\n\n 	Yakima Valley Farm Workers Clinic\n\n
BEGIN:VALARM
ACTION:DISPLAY
DESCRIPTION:REMINDER
TRIGGER;RELATED=START:-PT00H15M00S
END:VALARM
END:VEVENT
END:VCALENDAR
