BEGIN:VCALENDAR
VERSION:2.0
PRODID:-//Events//NONSGML v1.0//EN
METHOD:PUBLISH
BEGIN:VEVENT
DTSTART;TZID="Pacific Time (US & Canada)":20180620T083000
DTEND;TZID="Pacific Time (US & Canada)":20180718T163000
SUMMARY:WSU Full Immersion Spanish Institute
LOCATION:
DESCRIPTION:Students are placed in either beginner, intermediate, or advanced grouping according to their ability to read, write and converse in Spanish. Native speakers are brought in daily to help students understand different dialects while learning more about the various cultures of central and south America. Instruction is in Spanish from day one; role plays, interaction and discussion are emphasized to help students overcome their fear of using a new language.
BEGIN:VALARM
ACTION:DISPLAY
DESCRIPTION:REMINDER
TRIGGER;RELATED=START:-PT00H15M00S
END:VALARM
END:VEVENT
END:VCALENDAR
