BEGIN:VCALENDAR
VERSION:2.0
PRODID:-//Events//NONSGML v1.0//EN
METHOD:PUBLISH
BEGIN:VEVENT
DTSTART;TZID="Pacific Time (US & Canada)":20260206T190000
DTEND;TZID="Pacific Time (US & Canada)":20260206T200000
SUMMARY:WSU Planetarium: Supermassive Black Holes
LOCATION:Sloan Hall, 305 NE Spokane Street, Pullman, WA 99163
DESCRIPTION:Welcome to our $5 public planetarium show series. A docent will point out night sky highlights and upcoming astronomical events. This interactive lecture is followed by a fulldome video presentation.\n\nSupermassive Black Holes. Scary. Cool. Fascinating.
BEGIN:VALARM
ACTION:DISPLAY
DESCRIPTION:REMINDER
TRIGGER;RELATED=START:-PT00H15M00S
END:VALARM
END:VEVENT
END:VCALENDAR
