BEGIN:VCALENDAR
VERSION:2.0
PRODID:-//Events//NONSGML v1.0//EN
METHOD:PUBLISH
BEGIN:VEVENT
DTSTART;TZID="Pacific Time (US & Canada)":20230712T113000
DTEND;TZID="Pacific Time (US & Canada)":20230712T130000
SUMMARY:WSU SP3NW Startup Advisor Lunch &amp; Learn: Risk Mitigation
LOCATION:WSU Innovation Center - WSU Spokane, 120 N. Pine Street, Spokane, WA 99202
DESCRIPTION:With all the things that startups need to focus on where does developing a Risk Management Plan fit in? And where does a founder or CEO even start? Tim Taylor, Business Advisor for Washington&#039;s Small Business Development Center will give an overview:\n\n\n\n 	Risk Assessment\n\n 	Risk Mitigation\n\n 	Risk Transference\n\n\n\nSpeaker Bio:\n\nTim Taylor, has worked as an Mechanical Engineering Technician, Advanced EMT, Research Supervisor and, currently, Cybersecurity Training Coordinator. His experiences have uniquely shaped his assessment of sources risk and strategies for mitigating and/or transferring risk factors.\n\nStart-Up Business link\n\nPlease note:\n\nParking is complimentary\n\nAbout Lunch:\n\nStandard and plant-based options for lunch are included with in-person registration, which ends at 11:59 p.m. on July 10th. This is so we have an accurate headcount for our food order. We are happy to accommodate any dietary restrictions. Please reach out right away so we can be successful in accommodating your request.\n\nHelp us eliminate food waste! If you register to attend in-person and find you won&#039;t be able to be there, please notify us right away.\n\n&nbsp;
BEGIN:VALARM
ACTION:DISPLAY
DESCRIPTION:REMINDER
TRIGGER;RELATED=START:-PT00H15M00S
END:VALARM
END:VEVENT
END:VCALENDAR
