BEGIN:VCALENDAR
VERSION:2.0
PRODID:-//Events//NONSGML v1.0//EN
METHOD:PUBLISH
BEGIN:VEVENT
DTSTART;TZID="Pacific Time (US & Canada)":20230318T120000
DTEND;TZID="Pacific Time (US & Canada)":20230318T140000
SUMMARY:WSU Women&#8217;s Basketball NCAA Tournament Meetup &#8211; Bryn Mawr, PA
LOCATION:Off Campus
DESCRIPTION:WSU Women’s Basketball is headed to Villanova for the NCAA March Madness Tournament! Join fellow Greater Philadelphia Cougs for a meetup two hours prior to the game before the Cougs take on Florida Gulf Coast University in the first round of the tournament. This fan experience will take place at Flip &amp; Bailey’s in Bryn Mawr, a 20-minute walk or 4-minute drive from The Pavilion where the Cougs will play. Tip-off is at 2:30 p.m. Eastern.\n\nRSVP on the WSU Alumni Association website and let us know you’ll be there. Don’t forget to wear your Coug gear, and we’ll see you there!\n\nTo purchase game tickets in the Coug section, visit the Villanova website.
BEGIN:VALARM
ACTION:DISPLAY
DESCRIPTION:REMINDER
TRIGGER;RELATED=START:-PT00H15M00S
END:VALARM
END:VEVENT
END:VCALENDAR
