BEGIN:VCALENDAR
VERSION:2.0
PRODID:-//Events//NONSGML v1.0//EN
METHOD:PUBLISH
BEGIN:VEVENT
DTSTART;TZID="Pacific Time (US & Canada)":20201015T190000
DTEND;TZID="Pacific Time (US & Canada)":20201015T203000
SUMMARY:WSU&#8217;s Visiting Writers Series welcomes poet Ross Gay
LOCATION:Online
DESCRIPTION:Ross Gay is the author of three books of poetry: Against Which; Bringing the Shovel Down; and Catalog of Unabashed Gratitude, winner of the 2015 National Book Critics Circle Award and the 2016 Kingsley Tufts Poetry Award. His collection of essays,The Book of Delights, was released by Algonquin Books in 2019. His new book, Be Holding, will be released this coming fall. Ross is also the co-author, with Aimee Nezhukumatathil, of the chapbook “Lace and Pyrite: Letters from Two Gardens,” in addition to being co-author, with Richard Wehrenberg, Jr., of the chapbook, “River.”  He is a founding editor, with Karissa Chen and Patrick Rosal, of the online sports magazine Some Call it Ballin’, in addition to being an editor with the chapbook presses Q Avenue and Ledge Mule Press.  Ross is a founding board member of the Bloomington Community Orchard, a non-profit, free-fruit-for-all food justice and joy project. He has received fellowships from Cave Canem, the Bread Loaf Writer’s Conference, and the Guggenheim Foundation. Ross teaches at Indiana University.\n\nWe are grateful to our collaborators for Ross Gay’s visit: WSU-Vancouver Office of Equity and Diversity; WSU-Vancouver Office of Student Equity and Outreach; WSU-Vancouver Office of Academic Affairs; WSU-Vancouver College of Arts and Sciences; WSU-Tri-Cities Writing Center; WSU Common Reading Program; ASWSU; Landescapes, The Student Literary Journal.
BEGIN:VALARM
ACTION:DISPLAY
DESCRIPTION:REMINDER
TRIGGER;RELATED=START:-PT00H15M00S
END:VALARM
END:VEVENT
END:VCALENDAR
